BEGIN:VCALENDAR
VERSION:2.0
PRODID:-//Kahla Art - ECPv6.15.20//NONSGML v1.0//EN
CALSCALE:GREGORIAN
METHOD:PUBLISH
X-WR-CALNAME:Kahla Art
X-ORIGINAL-URL:https://kahla-art.de
X-WR-CALDESC:Veranstaltungen für Kahla Art
REFRESH-INTERVAL;VALUE=DURATION:PT1H
X-Robots-Tag:noindex
X-PUBLISHED-TTL:PT1H
BEGIN:VTIMEZONE
TZID:Europe/Berlin
BEGIN:DAYLIGHT
TZOFFSETFROM:+0100
TZOFFSETTO:+0200
TZNAME:CEST
DTSTART:20250330T010000
END:DAYLIGHT
BEGIN:STANDARD
TZOFFSETFROM:+0200
TZOFFSETTO:+0100
TZNAME:CET
DTSTART:20251026T010000
END:STANDARD
BEGIN:DAYLIGHT
TZOFFSETFROM:+0100
TZOFFSETTO:+0200
TZNAME:CEST
DTSTART:20260329T010000
END:DAYLIGHT
BEGIN:STANDARD
TZOFFSETFROM:+0200
TZOFFSETTO:+0100
TZNAME:CET
DTSTART:20261025T010000
END:STANDARD
BEGIN:DAYLIGHT
TZOFFSETFROM:+0100
TZOFFSETTO:+0200
TZNAME:CEST
DTSTART:20270328T010000
END:DAYLIGHT
BEGIN:STANDARD
TZOFFSETFROM:+0200
TZOFFSETTO:+0100
TZNAME:CET
DTSTART:20271031T010000
END:STANDARD
END:VTIMEZONE
BEGIN:VEVENT
DTSTART;VALUE=DATE:20260424
DTEND;VALUE=DATE:20260425
DTSTAMP:20260424T010514
CREATED:20260419T124119Z
LAST-MODIFIED:20260419T124119Z
UID:2548-1776988800-1777075199@kahla-art.de
SUMMARY:Vernissage zur Ausstellung "Galerie der Miniaturkunstwerke -
DESCRIPTION:Vernissage am 24. April 2026 | 17.00 Uhr | Foyer im Rathaus der Stadt Kahla \n\nAusstellung anlässlich der 1150-Jahrfeier der Stadt Kahla von April bis Oktober 2026 im Foyer des Rathauses der Stadt Kahla \nKahla gehörte 1921 zu den ausgabereichsten Orten von Serienscheinen und zeigte dabei eine beeindruckende künstlerische Bandbreite. Die Ausstellung präsentiert Kunstnotgeld als erzählerisches Medium von der pointierten Bildgeschichte rund um Muck Lambertys Aufenthalt auf der Leuchtenburg bis zu Arbeiten hochrangiger Künstler wie Olaf Gulbransson. Vielfalt\, Witz und Ideenreichtum prägen diese außergewöhnlichen Scheine\, die weit mehr sind als Zahlungsmittel – sie sind kleine Kunstwerke einer bewegten Zeit.
URL:https://kahla-art.de/event/vernissage-zur-ausstellung-galerie-der-miniaturkunstwerke/
LOCATION:Im Foyer des Rathauses\, Markt 10\, Kahla\, Thüringen\, 07768
CATEGORIES:Ausstellung
ATTACH;FMTTYPE=image/jpeg:https://kahla-art.de/wp-content/uploads/2026/04/Galerie-der-Miniaturkunswerke-1.jpg
END:VEVENT
END:VCALENDAR