BEGIN:VCALENDAR
VERSION:2.0
PRODID:-//Kahla Art - ECPv6.15.20//NONSGML v1.0//EN
CALSCALE:GREGORIAN
METHOD:PUBLISH
X-WR-CALNAME:Kahla Art
X-ORIGINAL-URL:https://kahla-art.de
X-WR-CALDESC:Veranstaltungen für Kahla Art
REFRESH-INTERVAL;VALUE=DURATION:PT1H
X-Robots-Tag:noindex
X-PUBLISHED-TTL:PT1H
BEGIN:VTIMEZONE
TZID:Europe/Berlin
BEGIN:DAYLIGHT
TZOFFSETFROM:+0100
TZOFFSETTO:+0200
TZNAME:CEST
DTSTART:20230326T010000
END:DAYLIGHT
BEGIN:STANDARD
TZOFFSETFROM:+0200
TZOFFSETTO:+0100
TZNAME:CET
DTSTART:20231029T010000
END:STANDARD
BEGIN:DAYLIGHT
TZOFFSETFROM:+0100
TZOFFSETTO:+0200
TZNAME:CEST
DTSTART:20240331T010000
END:DAYLIGHT
BEGIN:STANDARD
TZOFFSETFROM:+0200
TZOFFSETTO:+0100
TZNAME:CET
DTSTART:20241027T010000
END:STANDARD
BEGIN:DAYLIGHT
TZOFFSETFROM:+0100
TZOFFSETTO:+0200
TZNAME:CEST
DTSTART:20250330T010000
END:DAYLIGHT
BEGIN:STANDARD
TZOFFSETFROM:+0200
TZOFFSETTO:+0100
TZNAME:CET
DTSTART:20251026T010000
END:STANDARD
END:VTIMEZONE
BEGIN:VEVENT
DTSTART;VALUE=DATE:20240517
DTEND;VALUE=DATE:20240518
DTSTAMP:20260420T092016
CREATED:20240421T152448Z
LAST-MODIFIED:20240421T153610Z
UID:1470-1715904000-1715990399@kahla-art.de
SUMMARY:1. Literaturcafé nach Kahla Art
DESCRIPTION:am 17. Mai 2024\, um 17.00 Uhr \nEgal ob leidenschaftlicher Leser oder einfach nur neugierig darauf\, was andere über Bücher denken – im neuen Buchclub der Heimatgesellschaft Kahla e.V. bietet sich eine wunderbare Möglichkeit\, in einer geselligen und entspannten Runde gemeinsam über Bücher zu sprechen und Eindrücke\, Gedanken und Meinungen dazu austauschen. Die Teilnehmerzahl ist begrenzt. Eine Anmeldung ist zwingend erforderlich über info@kahla-art.de. Der Unkostenbeitrag beträgt 5€. \nFoto/Grafik © Heimatgesellschaft Kahla e.V. via Canva.com
URL:https://kahla-art.de/event/1-literaturcafe-nach-kahla-art/
LOCATION:Lesesaal Stadtbibliothek\, Roßstraße 38\, Kahla\, 07768\, Deutschland
CATEGORIES:Lesung
ATTACH;FMTTYPE=image/jpeg:https://kahla-art.de/wp-content/uploads/2024/04/LiteraturCafe.jpg
END:VEVENT
END:VCALENDAR