BEGIN:VCALENDAR
VERSION:2.0
PRODID:-//Kahla Art - ECPv6.15.20//NONSGML v1.0//EN
CALSCALE:GREGORIAN
METHOD:PUBLISH
X-WR-CALNAME:Kahla Art
X-ORIGINAL-URL:https://kahla-art.de
X-WR-CALDESC:Veranstaltungen für Kahla Art
REFRESH-INTERVAL;VALUE=DURATION:PT1H
X-Robots-Tag:noindex
X-PUBLISHED-TTL:PT1H
BEGIN:VTIMEZONE
TZID:Europe/Berlin
BEGIN:DAYLIGHT
TZOFFSETFROM:+0100
TZOFFSETTO:+0200
TZNAME:CEST
DTSTART:20230326T010000
END:DAYLIGHT
BEGIN:STANDARD
TZOFFSETFROM:+0200
TZOFFSETTO:+0100
TZNAME:CET
DTSTART:20231029T010000
END:STANDARD
BEGIN:DAYLIGHT
TZOFFSETFROM:+0100
TZOFFSETTO:+0200
TZNAME:CEST
DTSTART:20240331T010000
END:DAYLIGHT
BEGIN:STANDARD
TZOFFSETFROM:+0200
TZOFFSETTO:+0100
TZNAME:CET
DTSTART:20241027T010000
END:STANDARD
BEGIN:DAYLIGHT
TZOFFSETFROM:+0100
TZOFFSETTO:+0200
TZNAME:CEST
DTSTART:20250330T010000
END:DAYLIGHT
BEGIN:STANDARD
TZOFFSETFROM:+0200
TZOFFSETTO:+0100
TZNAME:CET
DTSTART:20251026T010000
END:STANDARD
END:VTIMEZONE
BEGIN:VEVENT
DTSTART;VALUE=DATE:20240816
DTEND;VALUE=DATE:20240817
DTSTAMP:20260421T094732
CREATED:20240617T131018Z
LAST-MODIFIED:20240617T131018Z
UID:1657-1723766400-1723852799@kahla-art.de
SUMMARY:Theater Rudolstadt - Spielzeitvorstellung 2024/2025
DESCRIPTION:16. August 2024 | 17.00 Uhr | Rathaussaal der Stadt Kahla \nFür das Theater Rudolstadt beginnt Mitte August nach dem Ende der Theaterferien eine ganz besondere Spielzeit. Denn nach Jahren in der Übergangsspielstätte Stadthaus soll im Januar 2025 mit einem Festakt das sanierte Große Haus wiedereröffnet werden. \nTheater- und Konzertinteressierte werden am 16. August ab 17 Uhr im Rathaussaal Kahla aus berufenem Munde über die neue Spielzeit informiert wie auch über die verschiedenen Abo-Möglichkeiten und die organisierten Theaterfahrten. Zu Gast ist u.a. Chefdramaturg Michael Kliefert.
URL:https://kahla-art.de/event/theater-rudolstadt-spielzeitvorstellung-2024-2025/
LOCATION:Rathaussaal der Stadt Kahla\, Markt 10\, Kahla\, 07768
CATEGORIES:Theatergespräch
ATTACH;FMTTYPE=image/jpeg:https://kahla-art.de/wp-content/uploads/2024/06/Save-the-date.jpg
END:VEVENT
END:VCALENDAR